BEGIN:VCALENDAR
VERSION:2.0
PRODID:-// - ECPv6.15.18//NONSGML v1.0//EN
CALSCALE:GREGORIAN
METHOD:PUBLISH
X-ORIGINAL-URL:https://montanahope.org
X-WR-CALDESC:Events for 
REFRESH-INTERVAL;VALUE=DURATION:PT1H
X-Robots-Tag:noindex
X-PUBLISHED-TTL:PT1H
BEGIN:VTIMEZONE
TZID:America/Denver
BEGIN:DAYLIGHT
TZOFFSETFROM:-0700
TZOFFSETTO:-0600
TZNAME:MDT
DTSTART:20250309T090000
END:DAYLIGHT
BEGIN:STANDARD
TZOFFSETFROM:-0600
TZOFFSETTO:-0700
TZNAME:MST
DTSTART:20251102T080000
END:STANDARD
BEGIN:DAYLIGHT
TZOFFSETFROM:-0700
TZOFFSETTO:-0600
TZNAME:MDT
DTSTART:20260308T090000
END:DAYLIGHT
BEGIN:STANDARD
TZOFFSETFROM:-0600
TZOFFSETTO:-0700
TZNAME:MST
DTSTART:20261101T080000
END:STANDARD
BEGIN:DAYLIGHT
TZOFFSETFROM:-0700
TZOFFSETTO:-0600
TZNAME:MDT
DTSTART:20270314T090000
END:DAYLIGHT
BEGIN:STANDARD
TZOFFSETFROM:-0600
TZOFFSETTO:-0700
TZNAME:MST
DTSTART:20271107T080000
END:STANDARD
END:VTIMEZONE
BEGIN:VEVENT
DTSTART;TZID=America/Denver:20260530T080000
DTEND;TZID=America/Denver:20260531T170000
DTSTAMP:20260424T001301
CREATED:20230302T014935Z
LAST-MODIFIED:20260315T235312Z
UID:6341-1780128000-1780246800@montanahope.org
SUMMARY:2026 Summer Reunion
DESCRIPTION:Wish Families are invited to Fairmont Hot Springs Resort on Saturday\, 5/30\, through Sunday\, 5/31. This is different from our typical “first weekend in June\,” and only covers one night instead of two\, structured similarly to our Winter Reunion. \nIf you have any questions or would like additional information\, please\, contact coordinator Cate Nelson at (406) 794-8751 or cnelson@montanahope.org. \nAdditional details will be added as they become available. \n***If you are a Wish Family & have stopped getting reunion invites\, please\, let Cate know\, so she can check the mailing list for accuracy.
URL:https://montanahope.org/event/2026-summer-reunion/
LOCATION:Fairmont Hot Springs Resort\, 1500 Fairmont Rd\, Anaconda\, MT\, 59711\, United States
ATTACH;FMTTYPE=image/png:https://montanahope.org/wp-content/uploads/2022/03/Fairmont-Hot-Springs-Resort.png
END:VEVENT
BEGIN:VEVENT
DTSTART;TZID=America/Denver:20260822T080000
DTEND;TZID=America/Denver:20260822T170000
DTSTAMP:20260424T001301
CREATED:20230302T015120Z
LAST-MODIFIED:20260403T155241Z
UID:6343-1787385600-1787418000@montanahope.org
SUMMARY:6th Annual Pickleball Tournament
DESCRIPTION:This year’s pickle ball tournament will take place Saturday\, 8/22/2026\, and participants will enjoy a day full of games\, lunch\, and prizes! \nRegistration is now open! \nPrevious teams will receive priority for sign-ups should spots fill quickly. Click HERE to register your team! \nIf you’d like more information regarding team registration or how you can help with the event\, please\, contact Jeannine Olson @ jeannineolson@msn.com. \n 
URL:https://montanahope.org/event/6th-annual-pickleball-tournament/
LOCATION:Lake Mary Ronan\, 52012 Lake Mary Ronan Rd\, Proctor\, MT\, 59929\, United States
ATTACH;FMTTYPE=image/jpeg:https://montanahope.org/wp-content/uploads/2023/03/IMG_20250824_150131.jpg
END:VEVENT
END:VCALENDAR